BEGIN:VCALENDAR
VERSION:2.0
PRODID:-//Fitler Square Park - ECPv6.15.10//NONSGML v1.0//EN
CALSCALE:GREGORIAN
METHOD:PUBLISH
X-ORIGINAL-URL:https://www.fitlersquare.org
X-WR-CALDESC:Events for Fitler Square Park
REFRESH-INTERVAL;VALUE=DURATION:PT1H
X-Robots-Tag:noindex
X-PUBLISHED-TTL:PT1H
BEGIN:VTIMEZONE
TZID:UTC
BEGIN:STANDARD
TZOFFSETFROM:+0000
TZOFFSETTO:+0000
TZNAME:UTC
DTSTART:20240101T000000
END:STANDARD
END:VTIMEZONE
BEGIN:VEVENT
DTSTART;TZID=UTC:20250907T190000
DTEND;TZID=UTC:20250907T190000
DTSTAMP:20260423T232218
CREATED:20250825T173041Z
LAST-MODIFIED:20250825T173044Z
UID:3198-1757271600-1757271600@www.fitlersquare.org
SUMMARY:Movie Night in the Park: Wild Robot
DESCRIPTION:Join us for movie night in the park! Bring popcorn and a blanket. Movie starts at 7:20pm. This event is in partnership with Philadelphia’s Parks & Recreation.
URL:https://www.fitlersquare.org/event/movie-night-in-the-park-wild-robot/
END:VEVENT
END:VCALENDAR