BEGIN:VCALENDAR
VERSION:2.0
PRODID:-//Fitler Square Park - ECPv6.15.10//NONSGML v1.0//EN
CALSCALE:GREGORIAN
METHOD:PUBLISH
X-WR-CALNAME:Fitler Square Park
X-ORIGINAL-URL:https://www.fitlersquare.org
X-WR-CALDESC:Events for Fitler Square Park
REFRESH-INTERVAL;VALUE=DURATION:PT1H
X-Robots-Tag:noindex
X-PUBLISHED-TTL:PT1H
BEGIN:VTIMEZONE
TZID:UTC
BEGIN:STANDARD
TZOFFSETFROM:+0000
TZOFFSETTO:+0000
TZNAME:UTC
DTSTART:20240101T000000
END:STANDARD
END:VTIMEZONE
BEGIN:VEVENT
DTSTART;TZID=UTC:20250620T180000
DTEND;TZID=UTC:20250620T200000
DTSTAMP:20260424T034341
CREATED:20250524T173740Z
LAST-MODIFIED:20250524T173743Z
UID:3177-1750442400-1750449600@www.fitlersquare.org
SUMMARY:Summer Concert Series: Lewis Brothers
DESCRIPTION:Rain Date: June 27  \n\n\n\nAt our first summer concert on Friday\, June 20 (rain date June 27) – one of the best bluegrass bands in Philadelphia\, The Lewis Brothers\, will be returning to Fitler Square Park to play a mix of music that includes traditional bluegrass\, folk\, country and even rock and roll. The Lewis Brothers band members\, led by Wanamaker Lewis\, play banjo\, mandolin\, bass\, and guitar. Friends of Fitler Square Park gives a shoutout to neighborhood friend and Lewis Brother band member\, Peter Lorch\, for his help in arranging this concert.    
URL:https://www.fitlersquare.org/event/summer-concert-series-lewis-brothers/
END:VEVENT
END:VCALENDAR