BEGIN:VCALENDAR
VERSION:2.0
PRODID:-//Fitler Square Park - ECPv6.15.10//NONSGML v1.0//EN
CALSCALE:GREGORIAN
METHOD:PUBLISH
X-ORIGINAL-URL:https://www.fitlersquare.org
X-WR-CALDESC:Events for Fitler Square Park
REFRESH-INTERVAL;VALUE=DURATION:PT1H
X-Robots-Tag:noindex
X-PUBLISHED-TTL:PT1H
BEGIN:VTIMEZONE
TZID:UTC
BEGIN:STANDARD
TZOFFSETFROM:+0000
TZOFFSETTO:+0000
TZNAME:UTC
DTSTART:20230101T000000
END:STANDARD
END:VTIMEZONE
BEGIN:VEVENT
DTSTART;TZID=UTC:20241026T160000
DTEND;TZID=UTC:20241026T170000
DTSTAMP:20260424T150632
CREATED:20241007T193043Z
LAST-MODIFIED:20241007T193047Z
UID:3109-1729958400-1729962000@www.fitlersquare.org
SUMMARY:Halloween Fun Fest
DESCRIPTION:Enjoy games\, snacks\, crafts\, music\, and of course a costume parade. Special thanks to Fitler Club & The Rosenbach Museum for sponsoring crafts\, donuts\, and cider.
URL:https://www.fitlersquare.org/event/halloween-fun-fest-3/
END:VEVENT
END:VCALENDAR