BEGIN:VCALENDAR
VERSION:2.0
PRODID:-//Fitler Square Park - ECPv6.15.10//NONSGML v1.0//EN
CALSCALE:GREGORIAN
METHOD:PUBLISH
X-ORIGINAL-URL:https://www.fitlersquare.org
X-WR-CALDESC:Events for Fitler Square Park
REFRESH-INTERVAL;VALUE=DURATION:PT1H
X-Robots-Tag:noindex
X-PUBLISHED-TTL:PT1H
BEGIN:VTIMEZONE
TZID:UTC
BEGIN:STANDARD
TZOFFSETFROM:+0000
TZOFFSETTO:+0000
TZNAME:UTC
DTSTART:20230101T000000
END:STANDARD
END:VTIMEZONE
BEGIN:VEVENT
DTSTART;TZID=UTC:20240614T180000
DTEND;TZID=UTC:20240614T200000
DTSTAMP:20260424T204104
CREATED:20240601T155132Z
LAST-MODIFIED:20240607T124821Z
UID:3083-1718388000-1718395200@www.fitlersquare.org
SUMMARY:Wanamaker Lewis Concert
DESCRIPTION:Much-lauded professional musician Wanamaker Lewis will be returning to Fitler Square to play an exciting mix of folk\, country\, great American songbook\, Latin and classical music. For nearly 40 years\, Wanamaker Lewis has been playing banjo\, acoustic guitar\, electric guitar and drums – in venues all around Philadelphia. \n\n\n\n No rain date.
URL:https://www.fitlersquare.org/event/lewis-brothers-bluegrass-band-concert-2/
END:VEVENT
END:VCALENDAR