BEGIN:VCALENDAR
VERSION:2.0
PRODID:-//Fitler Square Park - ECPv6.15.10//NONSGML v1.0//EN
CALSCALE:GREGORIAN
METHOD:PUBLISH
X-ORIGINAL-URL:https://www.fitlersquare.org
X-WR-CALDESC:Events for Fitler Square Park
REFRESH-INTERVAL;VALUE=DURATION:PT1H
X-Robots-Tag:noindex
X-PUBLISHED-TTL:PT1H
BEGIN:VTIMEZONE
TZID:UTC
BEGIN:STANDARD
TZOFFSETFROM:+0000
TZOFFSETTO:+0000
TZNAME:UTC
DTSTART:20230101T000000
END:STANDARD
END:VTIMEZONE
BEGIN:VEVENT
DTSTART;TZID=UTC:20240504T150000
DTEND;TZID=UTC:20240504T180000
DTSTAMP:20260424T222010
CREATED:20240319T013359Z
LAST-MODIFIED:20240319T223429Z
UID:3019-1714834800-1714845600@www.fitlersquare.org
SUMMARY:Fitler Fun
DESCRIPTION:Food and Drinks from Jezabel’s Cafe and Succession FermentoryKids games and crafts fro the Rosenbach Museum\, cupcake decorating booths\, the Free Library of Philadelphia’s book mobile\, Ask an Arborist from Bartlett Tree Experts\, raffle and silent auction of neighborhood vendors Musical entertainment from Panamaniacs
URL:https://www.fitlersquare.org/event/fitler-fun-2/
END:VEVENT
END:VCALENDAR