BEGIN:VCALENDAR
VERSION:2.0
PRODID:-//Fitler Square Park - ECPv6.15.10//NONSGML v1.0//EN
CALSCALE:GREGORIAN
METHOD:PUBLISH
X-ORIGINAL-URL:https://www.fitlersquare.org
X-WR-CALDESC:Events for Fitler Square Park
REFRESH-INTERVAL;VALUE=DURATION:PT1H
X-Robots-Tag:noindex
X-PUBLISHED-TTL:PT1H
BEGIN:VTIMEZONE
TZID:UTC
BEGIN:STANDARD
TZOFFSETFROM:+0000
TZOFFSETTO:+0000
TZNAME:UTC
DTSTART:20220101T000000
END:STANDARD
END:VTIMEZONE
BEGIN:VEVENT
DTSTART;TZID=UTC:20230506T150000
DTEND;TZID=UTC:20230506T190000
DTSTAMP:20260425T163114
CREATED:20230402T210849Z
LAST-MODIFIED:20230402T210854Z
UID:2804-1683385200-1683399600@www.fitlersquare.org
SUMMARY:Fitler Fun
DESCRIPTION:Join us for our first ever Fitler Fun event! Learn more on our Fitler Fun event page.
URL:https://www.fitlersquare.org/event/fitler-fun/
END:VEVENT
END:VCALENDAR