BEGIN:VCALENDAR
VERSION:2.0
PRODID:-//Fitler Square Park - ECPv6.15.10//NONSGML v1.0//EN
CALSCALE:GREGORIAN
METHOD:PUBLISH
X-WR-CALNAME:Fitler Square Park
X-ORIGINAL-URL:https://www.fitlersquare.org
X-WR-CALDESC:Events for Fitler Square Park
REFRESH-INTERVAL;VALUE=DURATION:PT1H
X-Robots-Tag:noindex
X-PUBLISHED-TTL:PT1H
BEGIN:VTIMEZONE
TZID:UTC
BEGIN:STANDARD
TZOFFSETFROM:+0000
TZOFFSETTO:+0000
TZNAME:UTC
DTSTART:20210101T000000
END:STANDARD
END:VTIMEZONE
BEGIN:VEVENT
DTSTART;TZID=UTC:20221204T170000
DTEND;TZID=UTC:20221204T170000
DTSTAMP:20260426T000610
CREATED:20220925T111804Z
LAST-MODIFIED:20220925T111808Z
UID:2644-1670173200-1670173200@www.fitlersquare.org
SUMMARY:Tree Lighting
DESCRIPTION:
URL:https://www.fitlersquare.org/event/tree-lighting-2/
END:VEVENT
BEGIN:VEVENT
DTSTART;TZID=UTC:20221218T170000
DTEND;TZID=UTC:20221218T183000
DTSTAMP:20260426T000610
CREATED:20220925T111917Z
LAST-MODIFIED:20220925T111921Z
UID:2646-1671382800-1671388200@www.fitlersquare.org
SUMMARY:Menorah Lighting
DESCRIPTION:rain date: December 19\, 5:30pm
URL:https://www.fitlersquare.org/event/menorah-lighting-2/
END:VEVENT
END:VCALENDAR