BEGIN:VCALENDAR
VERSION:2.0
PRODID:-//Fitler Square Park - ECPv6.15.10//NONSGML v1.0//EN
CALSCALE:GREGORIAN
METHOD:PUBLISH
X-WR-CALNAME:Fitler Square Park
X-ORIGINAL-URL:https://www.fitlersquare.org
X-WR-CALDESC:Events for Fitler Square Park
REFRESH-INTERVAL;VALUE=DURATION:PT1H
X-Robots-Tag:noindex
X-PUBLISHED-TTL:PT1H
BEGIN:VTIMEZONE
TZID:UTC
BEGIN:STANDARD
TZOFFSETFROM:+0000
TZOFFSETTO:+0000
TZNAME:UTC
DTSTART:20240101T000000
END:STANDARD
END:VTIMEZONE
BEGIN:VEVENT
DTSTART;TZID=UTC:20250808T180000
DTEND;TZID=UTC:20250808T200000
DTSTAMP:20260424T020710
CREATED:20250524T173855Z
LAST-MODIFIED:20250729T233852Z
UID:3179-1754676000-1754683200@www.fitlersquare.org
SUMMARY:Summer Concert Series: Mandy Valentine
DESCRIPTION:The Philly five-piece band\, Mandy Valentine will perform on Friday\, July 25 (rain date Aug 8).  Mandy Valentine’s lead singer\, Missy Pidgeon\, inspired by honky tonk favorites\, plays a mix of retro-flavored originals along with covers of classic country singers\, 60s girl groups\, and artists such as Elvis\, Dolly Parton\, Patsy Cline\, and Buddy Holly. 
URL:https://www.fitlersquare.org/event/summer-concert-series-mandy-valentine/
END:VEVENT
END:VCALENDAR