BEGIN:VCALENDAR
VERSION:2.0
PRODID:-//Fitler Square Park - ECPv6.15.10//NONSGML v1.0//EN
CALSCALE:GREGORIAN
METHOD:PUBLISH
X-WR-CALNAME:Fitler Square Park
X-ORIGINAL-URL:https://www.fitlersquare.org
X-WR-CALDESC:Events for Fitler Square Park
REFRESH-INTERVAL;VALUE=DURATION:PT1H
X-Robots-Tag:noindex
X-PUBLISHED-TTL:PT1H
BEGIN:VTIMEZONE
TZID:UTC
BEGIN:STANDARD
TZOFFSETFROM:+0000
TZOFFSETTO:+0000
TZNAME:UTC
DTSTART:20230101T000000
END:STANDARD
END:VTIMEZONE
BEGIN:VEVENT
DTSTART;TZID=UTC:20241230T170000
DTEND;TZID=UTC:20241230T170000
DTSTAMP:20260424T121007
CREATED:20241007T193926Z
LAST-MODIFIED:20241007T193930Z
UID:3115-1735578000-1735578000@www.fitlersquare.org
SUMMARY:Menorah Lighting
DESCRIPTION:
URL:https://www.fitlersquare.org/event/menorah-lighting-4/
END:VEVENT
END:VCALENDAR