BEGIN:VCALENDAR
VERSION:2.0
PRODID:-//Fitler Square Park - ECPv6.15.10//NONSGML v1.0//EN
CALSCALE:GREGORIAN
METHOD:PUBLISH
X-WR-CALNAME:Fitler Square Park
X-ORIGINAL-URL:https://www.fitlersquare.org
X-WR-CALDESC:Events for Fitler Square Park
REFRESH-INTERVAL;VALUE=DURATION:PT1H
X-Robots-Tag:noindex
X-PUBLISHED-TTL:PT1H
BEGIN:VTIMEZONE
TZID:UTC
BEGIN:STANDARD
TZOFFSETFROM:+0000
TZOFFSETTO:+0000
TZNAME:UTC
DTSTART:20220101T000000
END:STANDARD
END:VTIMEZONE
BEGIN:VEVENT
DTSTART;TZID=UTC:20231021T160000
DTEND;TZID=UTC:20231021T170000
DTSTAMP:20260425T104700
CREATED:20231001T215712Z
LAST-MODIFIED:20231001T220318Z
UID:2908-1697904000-1697907600@www.fitlersquare.org
SUMMARY:Halloween Fun Fest
DESCRIPTION:
URL:https://www.fitlersquare.org/event/halloween-fun-fest-2/
END:VEVENT
END:VCALENDAR