BEGIN:VCALENDAR
VERSION:2.0
PRODID:-//Fitler Square Park - ECPv6.15.10//NONSGML v1.0//EN
CALSCALE:GREGORIAN
METHOD:PUBLISH
X-WR-CALNAME:Fitler Square Park
X-ORIGINAL-URL:https://www.fitlersquare.org
X-WR-CALDESC:Events for Fitler Square Park
REFRESH-INTERVAL;VALUE=DURATION:PT1H
X-Robots-Tag:noindex
X-PUBLISHED-TTL:PT1H
BEGIN:VTIMEZONE
TZID:UTC
BEGIN:STANDARD
TZOFFSETFROM:+0000
TZOFFSETTO:+0000
TZNAME:UTC
DTSTART:20220101T000000
END:STANDARD
END:VTIMEZONE
BEGIN:VEVENT
DTSTART;TZID=UTC:20230831T063000
DTEND;TZID=UTC:20230831T203000
DTSTAMP:20260425T121131
CREATED:20230716T002600Z
LAST-MODIFIED:20230720T123127Z
UID:2889-1693463400-1693513800@www.fitlersquare.org
SUMMARY:Elegance Quartet Concert
DESCRIPTION:Thank you to Center City Residents Association (CCRA) for sponsoring this concert. \n\n\n\nLong-time favorite band\, Elegance Quartet\, will entertain us again! EleganceQuartet performs a wide array of programs on both traditional and electric strings\, enhanced with effects pedals\, live rhythm\, and vocals. Check out their website and follow them on Instagram for more information on public shows and private events. 
URL:https://www.fitlersquare.org/event/elegance-quartet-concert/
END:VEVENT
END:VCALENDAR