BEGIN:VCALENDAR
VERSION:2.0
PRODID:-//Fitler Square Park - ECPv6.15.10//NONSGML v1.0//EN
CALSCALE:GREGORIAN
METHOD:PUBLISH
X-ORIGINAL-URL:https://www.fitlersquare.org
X-WR-CALDESC:Events for Fitler Square Park
REFRESH-INTERVAL;VALUE=DURATION:PT1H
X-Robots-Tag:noindex
X-PUBLISHED-TTL:PT1H
BEGIN:VTIMEZONE
TZID:UTC
BEGIN:STANDARD
TZOFFSETFROM:+0000
TZOFFSETTO:+0000
TZNAME:UTC
DTSTART:20220101T000000
END:STANDARD
END:VTIMEZONE
BEGIN:VEVENT
DTSTART;TZID=UTC:20230721T183000
DTEND;TZID=UTC:20230721T203000
DTSTAMP:20260425T151057
CREATED:20230625T130109Z
LAST-MODIFIED:20230625T130114Z
UID:2881-1689964200-1689971400@www.fitlersquare.org
SUMMARY:Lewis Brothers Bluegrass Band Concert
DESCRIPTION:The Lewis Brothers four band members play banjo\, mandolin\, bass\, and guitar. The Lewis Brothers have been together for over 30 years. Led by banjo player\, Wanamaker Lewis\, their material is a mix of traditional\, folk\, country and even rock and roll. They have played at the Philadelphia Folk Festival and appeared in concert with David Bromberg\, Asleep at the Wheel\, and Jerry Jeff Walker. \n\n\n\nRain date July 28: 6:30 – 8:30pm
URL:https://www.fitlersquare.org/event/lewis-brothers-bluegrass-band-concert/
END:VEVENT
END:VCALENDAR